BEGIN:VCALENDAR
VERSION:2.0
PRODID:-//Σαολίν Κουνγκ Φου 少林功夫 (Shàolín gōng fu) - ECPv6.8.2.1//NONSGML v1.0//EN
CALSCALE:GREGORIAN
METHOD:PUBLISH
X-WR-CALNAME:Σαολίν Κουνγκ Φου 少林功夫 (Shàolín gōng fu)
X-ORIGINAL-URL:https://chanwushaolin.org.gr
X-WR-CALDESC:Events for Σαολίν Κουνγκ Φου 少林功夫 (Shàolín gōng fu)
REFRESH-INTERVAL;VALUE=DURATION:PT1H
X-Robots-Tag:noindex
X-PUBLISHED-TTL:PT1H
BEGIN:VTIMEZONE
TZID:UTC
BEGIN:STANDARD
TZOFFSETFROM:+0000
TZOFFSETTO:+0000
TZNAME:UTC
DTSTART:20240101T000000
END:STANDARD
END:VTIMEZONE
BEGIN:VEVENT
DTSTART;VALUE=DATE:20250315
DTEND;VALUE=DATE:20250317
DTSTAMP:20260422T225825
CREATED:20250209T172515Z
LAST-MODIFIED:20250317T172853Z
UID:13590-1741996800-1742169599@chanwushaolin.org.gr
SUMMARY:Ο δάσκαλος Ντιέν στην Γαλλία
DESCRIPTION:Με μεγάλη επιτυχία ολοκληρώθηκαν τα δύο σεμινάρια Σαολίν Κονγκ Φου με τον δάσκαλο Μιάο Ντιέν (妙滇 – Miào diān) στη Γαλλία. \nΤο πρώτο σεμινάριο πραγματοποιήθηκε στο Παρίσι στις 15 Μαρτίου\, ενώ το δεύτερο έλαβε χώρα στο Ντιζόν στις 16 Μαρτίου. Σε κάθε σεμινάριο\, οι συμμετέχοντες είχαν την ευκαιρία να εμβαθύνουν στην αυθεντική μορφή Σαολίν\, Σιάο Μα Τσουάν (小馬拳 – Xiǎo mǎ quán) «Η μικρή γροθιά του Αλόγου»\, υπό την καθοδήγηση του δασκάλου Μιάο Ντιέν. \nΠαρά τις κάποιες απουσίες λόγω υγείας στο σεμινάριο του Παρισιού\, η μικρή ομάδα που παρευρέθηκε επέδειξε αξιοθαύμαστο ζήλο και ενθουσιασμό\, διατηρώντας την ενέργεια και το ενδιαφέρον τους αμείωτα καθ’ όλη τη διάρκεια του πεντάωρου σεμιναρίου. \nΕντυπωσιακό ήταν επίσης το γεγονός ότι στο σεμινάριο της Ντιζόν\, πέντε άτομα ταξίδεψαν από την Ελβετία για να συναντήσουν τον δάσκαλο Μιάο Ντιέν και να συμμετάσχουν στο σεμινάριο. \nΚαι στα δύο σεμινάρια\, οι συμμετέχοντες επέδειξαν μεγάλο πάθος και αφοσίωση\, δουλεύοντας ακούραστα καθ’ όλη τη διάρκεια των πεντάωρων μαθημάτων. \nΟι οικοδεσπότες των σεμιναρίων\, ο εκπαιδευτής Πάτρικ (Patrick Đο Cao) στο Παρίσι και ο δάσκαλος Κρίστοφερ (Christophe Cruz) στο Ντιζόν\, μαθητές του δασκάλου Μιάο Ντιέν\, ήταν άριστοι στην φιλοξενία τους\, δημιουργώντας ένα θερμό και φιλόξενο περιβάλλον για όλους. \nΟ δάσκαλος Μιάο Ντιέν\, με το αστείρευτο πάθος και την αφοσίωση που τον διακρίνουν\, δίδαξε με ενθουσιασμό την μορφή Σιάο Μα Τσουάν\, μεταδίδοντας την γνώση και την εμπειρία του στους συμμετέχοντες. \nΤα σεμινάρια στέφθηκαν με απόλυτη επιτυχία\, αφήνοντας τους συμμετέχοντες ενθουσιασμένους και γεμάτους έμπνευση.
URL:https://chanwushaolin.org.gr/event/france-miaodian/
ATTACH;FMTTYPE=image/jpeg:https://chanwushaolin.org.gr/wp-content/uploads/2025/02/dijon-xiaomaquan2.jpg
END:VEVENT
BEGIN:VEVENT
DTSTART;VALUE=DATE:20241012
DTEND;VALUE=DATE:20241014
DTSTAMP:20260422T225825
CREATED:20241013T100052Z
LAST-MODIFIED:20241118T051809Z
UID:536-1728691200-1728863999@chanwushaolin.org.gr
SUMMARY:Ο δάσκαλος Ντιέν στην Γενεύη
DESCRIPTION:Στις 12 και 13 Οκτωβρίου ο δάσκαλος Μιάο Ντιέν 妙滇 (Miào diān) μετά από πρόσκληση από την ένωση Κονγκ Φου “Les Cinq Collines” στην Γενεύη\, εισηγήθηκε σε δύο εκπαιδευτικές ημερίδες δύο μορφές του Σαολίν Σιν Γι Πα 少林心意把 (Shaolin Xin Yi Ba). \nΤην άοπλη μορφή Τα Τονγκ Πέι Τσουέι 大通臂捶 (Dà tōng bì chuí) «Το μεγάλο σφυροκόπημα ανάμεσα από τα χέρια» και την ένοπλη μορφή Γιουάν Χόου Πανκ 猿猴棒 (Yuánhóu bàng) «Το κοντάρι του πιθήκου». \nΣε ένα πολύ ζεστό κλίμα με μια υπέροχη ομάδα που κάνει τα πρώτα τις βήματα ως ένωση Κονγκ Φου. \n«Είχαμε την τιμή να φιλοξενήσουμε τον δάσκαλο Μιάο Ντιέν για μια εξαιρετική πρακτική άσκηση όπου κατά τη διάρκεια της μας δίδαξε δύο μορφές Σαολίν. Μία με γυμνά χέρια και μία με κοντάρι. Ο τρόπος διδασκαλίας του\, η ακρίβεια στις κινήσεις και η ποιότητα της διδασκαλίας του ήταν αξιοσημείωτα. Προσθέτοντας σε αυτά τη χαρά της ζωής και την καλή του διάθεση\, είχαμε τη συνταγή για μια υπέροχη εξάσκηση. Εκτιμήσαμε την κάθε στιγμή: μαθαίνοντας τις μορφές\, επιδεικνύοντας τις τεχνικές τους και ενημερωνόμενοι για την ιστορία που τις ακολουθεί. Ανάμεσα στις έντονες στιγμές μάθησης\, χαλάρωσης καθώς και δείπνου με τα μέλη του συνδέσμου\, είχαμε την ευκαιρία να γνωρίσουμε έναν δάσκαλο Σαολίν που μας άνοιξε μια νέα διάσταση στην εκμάθηση των πολεμικών τεχνών. Ευχαριστούμε θερμά τον δάσκαλο Μιάο Ντιέν και όλους τους ασκούμενους που συμμετείχαν. Ήταν μια αξέχαστη εμπειρία για όλους μας και ίσως έχουμε την ευκαιρία να επαναλάβουμε το γεγονός στο μέλλον».  “Les Cinq Collines”
URL:https://chanwushaolin.org.gr/event/geneva-miaodian/
ATTACH;FMTTYPE=image/jpeg:https://chanwushaolin.org.gr/wp-content/uploads/2024/10/geneva.jpg
END:VEVENT
BEGIN:VEVENT
DTSTART;VALUE=DATE:20240805
DTEND;VALUE=DATE:20240824
DTSTAMP:20260422T225825
CREATED:20240825T120007Z
LAST-MODIFIED:20241118T053039Z
UID:511-1722816000-1724457599@chanwushaolin.org.gr
SUMMARY:Ταξίδι στην Κίνα
DESCRIPTION:Στις 5 Αυγούστου δύο ομάδες ανθρώπων άγνωστων μεταξύ τους ξεκίνησαν από το Παρίσι και την Αθήνα καθώς και ένας από την Ελβετία. Πρόθεσή τους να συναντηθούν και να ενωθούν στο αεροδρόμιο του Πεκίνου με σκοπό να συνεχίσουν το αεροπορικό τους ταξίδι για την πόλη Τσενγκ Τσόου 郑州 (Zhengzhou). Συνδετικός κρίκος ο δάσκαλος Μιάο Ντιέν 妙滇 (Miao Dian). Εκεί τους περίμενε ιδιωτικό λεωφορείο ώστε να τους παραλάβει και να τους οδηγήσει λίγο έξω από την πόλη Λούο Γιάνγκ 洛阳 (Luoyang) στον χώρο διαμονής και εκγύμνασης που με τόση φροντίδα είχε ετοιμάσει ο δάσκαλος Γιαν Άο 释延奥 (Shi Yan Ao). \nΤρίτη 6 Αυγούστου άφιξη και παραμονή στην σχολή του δασκάλου Γιάν Άο. Τέσσερις μέρες με τριπλές προπονήσεις και εκμάθηση της παραδοσιακής μορφής Τζιν Κανγκ Σιάο Πάο Τσούι 金刚小炮捶 (Jin Gang Xiao Pao Chui) «Το σφυροκόπημα του κανονιού των φρουρών πολεμιστών». Εντυπωσιακή η μέθοδος διδασκαλίας και η σαφής πρόθεση να μάθουν όλοι οι μαθητές σωστά\, ανεξαρτήτου του βαθμού εμπειρίας τους. Οι επισκέψεις στο «Ναό των λευκών αλόγων» 白馬寺 (Baima Si) και στην «Πύλη στα σπήλαια του δράκου» 龙门石窟 (Longmen shiku) ολοκλήρωσαν πολύ όμορφα την διαμονή στην σχολή. \nΚυριακή 11 Αυγούστου ο δάσκαλος Γιάν Άο περίμενε τους μαθητές στο ναό Σαολίν για μια τελευταία συνάντηση-περιήγηση και εξάσκηση. \nΔευτέρα 12 Αυγούστου έναρξη τετραήμερης εξάσκησης εντός του ναού Σαολίν. Τέσσερις μέρες με διπλές προπονήσεις και εκμάθηση της παραδοσιακής μορφής Γου Σινγκ Τσουάν 五形拳 (Wu Xing Quan) «Η γροθιά των 5 ζώων». Αξιοσημείωτα γεγονότα η συνάντηση με τον ηγούμενο Σι Γιόνγκ Σιν 释永信 (Shi Yong Xin) και η επίσκεψη έκπληξη στον δάσκαλο Ντε Γιάνγκ 释德扬 (Shi De Yang) στο δωμάτιό του εντός του ναού Σαολίν. Οι μαθητές επισκέφτηκαν επίσης τα γύρω μονοπάτια και ασκήθηκαν στο «Δάσος με τις παγόδες» 塔林 (Ta Lin) [χώρος ταφής σημαντικών δασκάλων και ηγούμενων]\, διαλογίστηκαν στην σπηλιά του Μπόντιντάρμα 达摩洞 (Da mo dong)\, έπαιξαν και κολύμπησαν στην Λίμνη των 5 Δράκων αλλά και αναρριχήθηκαν στην αίθουσα του δεύτερου προγόνου (Erzuan) και στον πέτρινο ναό Σαν Χουάνγκ Τσάι 三皇寨 (Sanhuangzhai). \nΠαρασκευή 16 Αυγούστου σεμινάριο-έκπληξη με τον δάσκαλο Ντε Γιάνγκ. Ο δάσκαλος Μιάο Ντιέν θέλοντας η ομάδα του (18 άτομα) να γνωρίσει από κοντά και να εξασκηθεί με ένα φίλο του και θρύλο στο Σαολίν Κονγκ Φου\, οργάνωσε ένα σεμινάριο έκπληξη με τον δάσκαλο Ντε Γιάνγκ του ναού Σαολίν. Ο μοναχός Ντε Γιάνγκ δίδαξε Τσι Κονγκ την μορφή Φανγκ Πάι Λιόου 風擺柳 (Feng Bai Liu) «Ιτιά στον άνεμο». \nΔευτέρα 19 Αυγούστου επίσκεψη στην επαρχεία Σιάν! Στις 6 ώρα το πρωί ιδιωτικό λεωφορείο περίμενε τους μαθητές και τους οδήγησε στο Σιάν και στους πήλινους στρατιώτες! \nΤρίτη 20 Αυγούστου επίσκεψη στον δάσκαλο Γιάν Τσι 释延孜 (Shi Yan Zi). Μια ακόμα έκπληξη πραγματοποιήθηκε με την ιδιαίτερη επίσκεψη στην «σχολή» του δάσκαλου Γιάν Τσι. Ο δάσκαλος υποδέχτηκε θερμά τους μαθητές\, τους παρουσίασε τους χώρους της σχολής και τους μίλησε σχετικά με το μαχητικό Σαολίν αλλά και το Σαν Ντα. \nΣτην περίοδο της διαμονής στην Κίνα οι μαθητές εξάσκησαν καλλιγραφία και ζωγραφική με τον δάσκαλο Χο Σιάο Λονγκ 贺小龙 (He Xiao Long)\, όπως επίσης φιλοσοφία και Τσάι απευθείας σε άψογα αγγλικά. Πραγματοποιήθηκαν συχνές επισκέψεις στην πόλη Ντενγκ Φενγκ για μασάζ\, φαγητό\, καραόκε και πολλά πολλά ψώνια όπως στολές Κονγκ Φου\, όπλα\, ενθύμια και άλλα !!!
URL:https://chanwushaolin.org.gr/event/kina-taxidi/
ATTACH;FMTTYPE=image/jpeg:https://chanwushaolin.org.gr/wp-content/uploads/2019/04/ιγιγ.jpg
END:VEVENT
END:VCALENDAR